BEGIN:VCALENDAR
VERSION:2.0
PRODID:-//Hephzibah Christian Church - ECPv4.5.3//NONSGML v1.0//EN
CALSCALE:GREGORIAN
METHOD:PUBLISH
X-WR-CALNAME:Hephzibah Christian Church
X-ORIGINAL-URL:http://www.hephzibah.com.au
X-WR-CALDESC:Events for Hephzibah Christian Church
BEGIN:VEVENT
DTSTART;TZID=UTC+0:20180311T100000
DTEND;TZID=UTC+0:20180311T120000
DTSTAMP:20180226T084631
CREATED:20180204T063900Z
LAST-MODIFIED:20180211T083045Z
UID:483-1520762400-1520769600@www.hephzibah.com.au
SUMMARY:Sunday Service (Ps Suresh Fernando)
DESCRIPTION:Pastor Suresh Fernando from Srilanka\, will be ministering at Hephzibah Christian Church\, on the 25th of February 2018.\nJoin us if you are in Melbourne. God bless you all.\n\nMore details are given below
URL:http://www.hephzibah.com.au/event/sunday-service-ps-suresh-fernando/
LOCATION: Werribee\, VIC 3030\, Australia
ORGANIZER;CN="Ps%20Abraham":MAILTO:abraham.selvam61@gmail.com
END:VEVENT
END:VCALENDAR